BEGIN:VCALENDAR
VERSION:2.0
PRODID:-//SecuriFocus//NONSGML Foobar//EN
METHOD:PUBLISH
BEGIN:VEVENT
UID:20260421T141644-99095-securifocus.com
DTSTAMP:20260421T141644
DTSTART:20260507T100000
DTEND:20260507T000000
LOCATION:Budapest, Petzvál József utca 30.
SUMMARY:Milesight LPR Workshop
DESCRIPTION:Rendező: GeoVision Hungária Kft
Információ: https://docs.google.com/forms/d/e/1FAIpQLSd3hYLL0c3KJd6nNTfNpgOlN3xwDLQOaHu469ZEeU5IcdQ2RA/viewform
Esemény: https://docs.google.com/forms/d/e/1FAIpQLSd3hYLL0c3KJd6nNTfNpgOlN3xwDLQOaHu469ZEeU5IcdQ2RA/viewform
Jelentkezés: https://docs.google.com/forms/d/e/1FAIpQLSd3hYLL0c3KJd6nNTfNpgOlN3xwDLQOaHu469ZEeU5IcdQ2RA/viewform
END:VEVENT
END:VCALENDAR